BEGIN:VCALENDAR
VERSION:2.0
PRODID:-//California Arts Council - ECPv6.15.18//NONSGML v1.0//EN
CALSCALE:GREGORIAN
METHOD:PUBLISH
X-WR-CALNAME:California Arts Council
X-ORIGINAL-URL:https://arts.ca.gov
X-WR-CALDESC:Events for California Arts Council
REFRESH-INTERVAL;VALUE=DURATION:PT1H
X-Robots-Tag:noindex
X-PUBLISHED-TTL:PT1H
BEGIN:VTIMEZONE
TZID:UTC
BEGIN:STANDARD
TZOFFSETFROM:+0000
TZOFFSETTO:+0000
TZNAME:UTC
DTSTART:20240101T000000
END:STANDARD
END:VTIMEZONE
BEGIN:VEVENT
DTSTART;TZID=UTC:20250428T120000
DTEND;TZID=UTC:20250428T130000
DTSTAMP:20260421T044119
CREATED:20250401T162815Z
LAST-MODIFIED:20250401T180244Z
UID:41298-1745841600-1745845200@arts.ca.gov
SUMMARY:Office Hours: General Operating Support
DESCRIPTION:Join California Arts Council Program Specialist Leslie Giovanini on Monday\, April 28 at 12 p.m. as she answers general questions regarding the General Operating Support (GEN) grant. \nOffice hours are structured to be a ” drop – in” format. Audience members are welcome to join and exit as needed. To register for 4/28 at 12 p.m.\, click here. \nTo review all available grant information\, including eligibility requirements and grant timelines\, please visit the General Operating Support (GEN) website: https://arts.ca.gov/grant_program/arts-cultural-organizations-general-operating-support. \nAdditional Office Hour dates for the General Operating Support grant: \nTuesday\, May 27 – 12 p.m.: Register here \n  \n 
URL:https://arts.ca.gov/event/office-hours-general-operating-support/
LOCATION:CA
END:VEVENT
END:VCALENDAR