BEGIN:VCALENDAR
VERSION:2.0
PRODID:-//California Arts Council - ECPv6.15.18//NONSGML v1.0//EN
CALSCALE:GREGORIAN
METHOD:PUBLISH
X-WR-CALNAME:California Arts Council
X-ORIGINAL-URL:https://arts.ca.gov
X-WR-CALDESC:Events for California Arts Council
REFRESH-INTERVAL;VALUE=DURATION:PT1H
X-Robots-Tag:noindex
X-PUBLISHED-TTL:PT1H
BEGIN:VTIMEZONE
TZID:UTC
BEGIN:STANDARD
TZOFFSETFROM:+0000
TZOFFSETTO:+0000
TZNAME:UTC
DTSTART:20240101T000000
END:STANDARD
END:VTIMEZONE
BEGIN:VEVENT
DTSTART;VALUE=DATE:20250124
DTEND;VALUE=DATE:20250125
DTSTAMP:20260421T084252
CREATED:20241218T215700Z
LAST-MODIFIED:20241218T215700Z
UID:40012-1737676800-1737763199@arts.ca.gov
SUMMARY:Council Meeting - Sutter/Yuba
DESCRIPTION:The Council meeting agenda for January 24\, 2025 will be available at least 10 days prior to the meeting. \nFor more information about Council meetings\, including the agenda\, Council book\, or meeting locations\, visit https://arts.ca.gov/about/council-meetings.
URL:https://arts.ca.gov/event/council-meeting-sutter-yuba/
LOCATION:CA
END:VEVENT
END:VCALENDAR