BEGIN:VCALENDAR
VERSION:2.0
PRODID:-//California Arts Council - ECPv6.15.18//NONSGML v1.0//EN
CALSCALE:GREGORIAN
METHOD:PUBLISH
X-WR-CALNAME:California Arts Council
X-ORIGINAL-URL:https://arts.ca.gov
X-WR-CALDESC:Events for California Arts Council
REFRESH-INTERVAL;VALUE=DURATION:PT1H
X-Robots-Tag:noindex
X-PUBLISHED-TTL:PT1H
BEGIN:VTIMEZONE
TZID:UTC
BEGIN:STANDARD
TZOFFSETFROM:+0000
TZOFFSETTO:+0000
TZNAME:UTC
DTSTART:20220101T000000
END:STANDARD
END:VTIMEZONE
BEGIN:VEVENT
DTSTART;TZID=UTC:20230525T090000
DTEND;TZID=UTC:20230525T100000
DTSTAMP:20260419T183849
CREATED:20230517T142802Z
LAST-MODIFIED:20230517T142802Z
UID:33997-1685005200-1685008800@arts.ca.gov
SUMMARY:Office Hours: State-Local Partners & SLP Mentorship Grants
DESCRIPTION:State-Local Partners/ SLP Mentorship Combined Office Hours \nThursday\, 5/25/23\,  9am-10am \nProgram Specialist: Josy Miller\, Ph.D. \nZoom Link:   \nhttps://us06web.zoom.us/j/85025149916?pwd=Y3MzWmxxcmFiT2lsQWw1bkVGbnZTQT09
URL:https://arts.ca.gov/event/office-hours-state-local-partners-slp-mentorship-grants-2/
LOCATION:CA
END:VEVENT
END:VCALENDAR