BEGIN:VCALENDAR
VERSION:2.0
PRODID:-//California Arts Council - ECPv6.15.18//NONSGML v1.0//EN
CALSCALE:GREGORIAN
METHOD:PUBLISH
X-WR-CALNAME:California Arts Council
X-ORIGINAL-URL:https://arts.ca.gov
X-WR-CALDESC:Events for California Arts Council
REFRESH-INTERVAL;VALUE=DURATION:PT1H
X-Robots-Tag:noindex
X-PUBLISHED-TTL:PT1H
BEGIN:VTIMEZONE
TZID:UTC
BEGIN:STANDARD
TZOFFSETFROM:+0000
TZOFFSETTO:+0000
TZNAME:UTC
DTSTART:20220101T000000
END:STANDARD
END:VTIMEZONE
BEGIN:VEVENT
DTSTART;TZID=UTC:20230524T170000
DTEND;TZID=UTC:20230524T180000
DTSTAMP:20260424T015954
CREATED:20230517T142547Z
LAST-MODIFIED:20230517T142547Z
UID:33995-1684947600-1684951200@arts.ca.gov
SUMMARY:Office Hours: General Technical Assistance
DESCRIPTION:General Technical Assistance Office Hours  \nWednesday\, 5/24/23(5 PM – 6 PM) \nPrograms Analyst: Yaquelin Ruiz \nAttendee Zoom Link: (Register in advance for this webinar) \nhttps://us06web.zoom.us/webinar/register/WN_V1SbIWLiSlG74Y5TCzxFrg
URL:https://arts.ca.gov/event/office-hours-general-technical-assistance-2/
LOCATION:CA
END:VEVENT
END:VCALENDAR