BEGIN:VCALENDAR
VERSION:2.0
PRODID:-//California Arts Council - ECPv6.15.18//NONSGML v1.0//EN
CALSCALE:GREGORIAN
METHOD:PUBLISH
X-WR-CALNAME:California Arts Council
X-ORIGINAL-URL:https://arts.ca.gov
X-WR-CALDESC:Events for California Arts Council
REFRESH-INTERVAL;VALUE=DURATION:PT1H
X-Robots-Tag:noindex
X-PUBLISHED-TTL:PT1H
BEGIN:VTIMEZONE
TZID:UTC
BEGIN:STANDARD
TZOFFSETFROM:+0000
TZOFFSETTO:+0000
TZNAME:UTC
DTSTART:20220101T000000
END:STANDARD
END:VTIMEZONE
BEGIN:VEVENT
DTSTART;TZID=UTC:20230519T090000
DTEND;TZID=UTC:20230519T100000
DTSTAMP:20260423T112552
CREATED:20230516T225201Z
LAST-MODIFIED:20230517T191319Z
UID:33969-1684486800-1684490400@arts.ca.gov
SUMMARY:Office Hours: Arts & Cultural Organizations General Operating Support Grant
DESCRIPTION:Arts & Cultural Organizations General Operating Support Office Hours\nVirtual office sessions are available to provide technical assistance for the Arts & Cultural Organizations General Operating Support grant. Join Arts Program Specialists Leslie Giovanini and Josy Miller Join as they answer general questions regarding this program. Office hours are structured to be a “drop-in” format. Audience members are welcome to join and exit as needed. \nHours are offered as follows: \nFriday\, May 19\, 9-10 a.m. – Click here to register
URL:https://arts.ca.gov/event/office-hours-arts-cultural-organizations-general-operating-support-grant/
LOCATION:CA
END:VEVENT
END:VCALENDAR