BEGIN:VCALENDAR
VERSION:2.0
PRODID:-//California Arts Council - ECPv6.15.18//NONSGML v1.0//EN
CALSCALE:GREGORIAN
METHOD:PUBLISH
X-WR-CALNAME:California Arts Council
X-ORIGINAL-URL:https://arts.ca.gov
X-WR-CALDESC:Events for California Arts Council
REFRESH-INTERVAL;VALUE=DURATION:PT1H
X-Robots-Tag:noindex
X-PUBLISHED-TTL:PT1H
BEGIN:VTIMEZONE
TZID:UTC
BEGIN:STANDARD
TZOFFSETFROM:+0000
TZOFFSETTO:+0000
TZNAME:UTC
DTSTART:20210101T000000
END:STANDARD
END:VTIMEZONE
BEGIN:VEVENT
DTSTART;VALUE=DATE:20220623
DTEND;VALUE=DATE:20220624
DTSTAMP:20260420T152942
CREATED:20220429T024532Z
LAST-MODIFIED:20220520T160320Z
UID:25809-1655942400-1656028799@arts.ca.gov
SUMMARY:2022 Cycle B Grants Deadline
DESCRIPTION:Applications for the following grant programs close on Thursday\, June 23\, 2022 at 11:59 PM: \n\nArtists in Schools\nArts Education: Arts Integration Training\nArts Education Exposure\nArts and Accessibility\nCreative Youth Development (formerly Youth Arts Action)\nFolk and Traditional Arts\nJUMP StArts (Cycle B)\nStatewide and Regional Networks
URL:https://arts.ca.gov/event/2022-cycle-b-grants-deadline/
LOCATION:CA
END:VEVENT
END:VCALENDAR