BEGIN:VCALENDAR
VERSION:2.0
PRODID:-//California Arts Council - ECPv6.15.18//NONSGML v1.0//EN
CALSCALE:GREGORIAN
METHOD:PUBLISH
X-WR-CALNAME:California Arts Council
X-ORIGINAL-URL:https://arts.ca.gov
X-WR-CALDESC:Events for California Arts Council
REFRESH-INTERVAL;VALUE=DURATION:PT1H
X-Robots-Tag:noindex
X-PUBLISHED-TTL:PT1H
BEGIN:VTIMEZONE
TZID:UTC
BEGIN:STANDARD
TZOFFSETFROM:+0000
TZOFFSETTO:+0000
TZNAME:UTC
DTSTART:20210101T000000
END:STANDARD
END:VTIMEZONE
BEGIN:VEVENT
DTSTART;TZID=UTC:20220607T120000
DTEND;TZID=UTC:20220607T130000
DTSTAMP:20260422T161948
CREATED:20220601T215525Z
LAST-MODIFIED:20220601T215525Z
UID:26377-1654603200-1654606800@arts.ca.gov
SUMMARY:Arts In Corrections RFP webinar
DESCRIPTION:Prospective applicants are invited to attend this optional webinar\, which will cover the current Requests for Proposals (RFPs) for our Arts in Corrections Program. \nWebinar outcomes: \n\nTo understand the Request for Proposal (RFP) process\nTo gain technical knowledge on how to navigate the available Request for Proposal opportunities\nTo identify the purpose\, review components\, understand the evaluation criteria of each AIC Request for Proposals\, and how to submit a complete proposal\n\nTo register\, visit: https://us06web.zoom.us/webinar/register/WN_a5Sn9oJ3Rtimy8srWcTmUw
URL:https://arts.ca.gov/event/arts-in-corrections-rfp-webinar/
LOCATION:CA
END:VEVENT
END:VCALENDAR