BEGIN:VCALENDAR
VERSION:2.0
PRODID:-//California Arts Council - ECPv6.15.18//NONSGML v1.0//EN
CALSCALE:GREGORIAN
METHOD:PUBLISH
X-ORIGINAL-URL:https://arts.ca.gov
X-WR-CALDESC:Events for California Arts Council
REFRESH-INTERVAL;VALUE=DURATION:PT1H
X-Robots-Tag:noindex
X-PUBLISHED-TTL:PT1H
BEGIN:VTIMEZONE
TZID:UTC
BEGIN:STANDARD
TZOFFSETFROM:+0000
TZOFFSETTO:+0000
TZNAME:UTC
DTSTART:20210101T000000
END:STANDARD
END:VTIMEZONE
BEGIN:VEVENT
DTSTART;TZID=UTC:20220605T160000
DTEND;TZID=UTC:20220605T180000
DTSTAMP:20260422T174838
CREATED:20220601T214328Z
LAST-MODIFIED:20220601T214533Z
UID:26370-1654444800-1654452000@arts.ca.gov
SUMMARY:Poetry Out Loud National Competition live webcast
DESCRIPTION:California Poetry Out Loud State Champion Mia Ronn (Los Angeles County\, The Archer School for Girls) will compete against eight other state champions for the National Championship title on Sunday\, June 5\, 2022. Show your support for Mia by visiting Arts.gov/Poetry-Out-Loud  at 4 p.m. PT to watch the one-time webcast. \nGood luck\, Mia!
URL:https://arts.ca.gov/event/poetry-out-loud-national-competition-live-webcast/
LOCATION:CA
END:VEVENT
END:VCALENDAR