BEGIN:VCALENDAR
VERSION:2.0
PRODID:-//California Arts Council - ECPv6.15.18//NONSGML v1.0//EN
CALSCALE:GREGORIAN
METHOD:PUBLISH
X-ORIGINAL-URL:https://arts.ca.gov
X-WR-CALDESC:Events for California Arts Council
REFRESH-INTERVAL;VALUE=DURATION:PT1H
X-Robots-Tag:noindex
X-PUBLISHED-TTL:PT1H
BEGIN:VTIMEZONE
TZID:UTC
BEGIN:STANDARD
TZOFFSETFROM:+0000
TZOFFSETTO:+0000
TZNAME:UTC
DTSTART:20210101T000000
END:STANDARD
END:VTIMEZONE
BEGIN:VEVENT
DTSTART;VALUE=DATE:20220418
DTEND;VALUE=DATE:20220419
DTSTAMP:20260420T062635
CREATED:20220307T215703Z
LAST-MODIFIED:20220307T215703Z
UID:24880-1650240000-1650326399@arts.ca.gov
SUMMARY:Arts in Corrections RFPs open
DESCRIPTION:Two new Request for Proposals (RFPs) for Arts in Corrections open April 18\, intended to bolster the values upheld by the state prison arts program through opportunities in the following areas: \n\nArts Progamming\n\nincludes a program development opportunity for Native/Indigenous arts providers and teaching artists\n\n\nTraining\n\nDetails in the announcement here: https://arts.ca.gov/press-release/two-funding-arts-in-funding-opportunities-coming-april-18/
URL:https://arts.ca.gov/event/arts-in-corrections-rfps-open/
LOCATION:CA
ORGANIZER;CN="California Arts Council":MAILTO:info@arts.ca.gov
END:VEVENT
END:VCALENDAR